BEGIN:VCALENDAR
VERSION:2.0
PRODID:-//Der CLUB - ECPv6.15.20//NONSGML v1.0//EN
CALSCALE:GREGORIAN
METHOD:PUBLISH
X-WR-CALNAME:Der CLUB
X-ORIGINAL-URL:https://der-club.de
X-WR-CALDESC:Veranstaltungen für Der CLUB
REFRESH-INTERVAL;VALUE=DURATION:PT1H
X-Robots-Tag:noindex
X-PUBLISHED-TTL:PT1H
BEGIN:VTIMEZONE
TZID:Europe/Berlin
BEGIN:DAYLIGHT
TZOFFSETFROM:+0100
TZOFFSETTO:+0200
TZNAME:CEST
DTSTART:20230326T010000
END:DAYLIGHT
BEGIN:STANDARD
TZOFFSETFROM:+0200
TZOFFSETTO:+0100
TZNAME:CET
DTSTART:20231029T010000
END:STANDARD
BEGIN:DAYLIGHT
TZOFFSETFROM:+0100
TZOFFSETTO:+0200
TZNAME:CEST
DTSTART:20240331T010000
END:DAYLIGHT
BEGIN:STANDARD
TZOFFSETFROM:+0200
TZOFFSETTO:+0100
TZNAME:CET
DTSTART:20241027T010000
END:STANDARD
BEGIN:DAYLIGHT
TZOFFSETFROM:+0100
TZOFFSETTO:+0200
TZNAME:CEST
DTSTART:20250330T010000
END:DAYLIGHT
BEGIN:STANDARD
TZOFFSETFROM:+0200
TZOFFSETTO:+0100
TZNAME:CET
DTSTART:20251026T010000
END:STANDARD
END:VTIMEZONE
BEGIN:VEVENT
DTSTART;TZID=Europe/Berlin:20240406T100000
DTEND;TZID=Europe/Berlin:20240406T160000
DTSTAMP:20260421T222348
CREATED:20231112T142217Z
LAST-MODIFIED:20240324T124046Z
UID:16663-1712397600-1712419200@der-club.de
SUMMARY:Anrudern 2024
DESCRIPTION:Liebe Clubmitglieder\, \nam Sonnabend\, 6. April\, ist die Winterpause offiziell vorbei und wir treffen uns zum Anrudern – wer dabei sein möchte\, ist herzlich eingeladen! \nEs geht um 10:00 Uhr auf dem Steg mit dem traditionellen Gruppenfoto los\, abgelegt wird um 10:30 Uhr. Die Rückkehr ist zwischen 12:00 und 12:30 Uhr vorgesehen. \nAnschließend grillen wir\, für Grillgut\, Baguettes und Getränke wird gesorgt – bitte spendet fleißig\, damit wir die Kosten decken können. Wer mag\, kann sehr gerne einen Kuchen mitbringen (eine kurze Info wäre schön)! \nWir freuen uns auf Eure rege Beteiligung! \nFür den Vorstand:\nKat (Geselligkeit) und Thorsten (Sport) \n  \n\nAbb.: Gruppenfoto vom Anrudern 2023 (Foto: Lars Christiansen)
URL:https://der-club.de/event/anrudern-2024
LOCATION:Der Hamburger und Germania Ruder Club\, Alsterufer 21\, Hamburg\, Hamburg\, 20354\, Deutschland
CATEGORIES:Club-Leben,Sportveranstaltung im CLUB
ATTACH;FMTTYPE=image/jpeg:https://der-club.de/wp-content/uploads/2023/11/Anrudern_2023.jpg
END:VEVENT
BEGIN:VEVENT
DTSTART;TZID=Europe/Berlin:20240423T170000
DTEND;TZID=Europe/Berlin:20240423T210000
DTSTAMP:20260421T222348
CREATED:20240409T085138Z
LAST-MODIFIED:20240409T085138Z
UID:18140-1713891600-1713906000@der-club.de
SUMMARY:Wir besuchen das New Institute
DESCRIPTION:Liebe Clubmitglieder\, \nich freue mich\, zu einer ganz besonderen Veranstaltung einladen zu dürfen: \nUnser neuer Nachbar\, das The New Institute\, lädt uns herzlich ein\, am Dienstag\, 23. April 2024\, ab 17:00 Uhr das Konzept des Instituts und die Architektur des Hauses kennenzulernen. \nDer Initiator Erck Rickmers und das Leitungsteam des Instituts werden einen Vortrag über die Denkfabrik halten\, uns die Räumlichkeiten zeigen und uns anschließend zu Speis und Trank einladen. Ich bin sicher\, dass es ein interessanter Abend wird\, exklusive nur für unseren Club. \nIch würde mich freuen\, wenn viele Mitglieder vertreten sind und bitte um Anmeldung bis zum 20. April 2024 per E-Mail an meine Adresse geselligkeit@der-club.de. Die Kapazitäten sind auf 100 Teilnehmer begrenzt. \nDer Event ist kostenlos und findet statt im The New Institute\, Warburgstraße 18\, 20354 Hamburg. \nHerzliche Grüße\nKat Alder und Euer Vorstand \n– Es stehen nur noch wenige freie Plätze zur Verfügung –
URL:https://der-club.de/event/wir-besuchen-das-new-institute
LOCATION:The New Institute\, Warburgstraße 18\, Hamburg\, 20354
CATEGORIES:Club-Leben
ATTACH;FMTTYPE=image/jpeg:https://der-club.de/wp-content/uploads/2024/04/New-Institute-Hamburg.jpg
END:VEVENT
END:VCALENDAR