BEGIN:VCALENDAR
VERSION:2.0
PRODID:-//Der CLUB - ECPv6.15.20//NONSGML v1.0//EN
CALSCALE:GREGORIAN
METHOD:PUBLISH
X-WR-CALNAME:Der CLUB
X-ORIGINAL-URL:https://der-club.de
X-WR-CALDESC:Veranstaltungen für Der CLUB
REFRESH-INTERVAL;VALUE=DURATION:PT1H
X-Robots-Tag:noindex
X-PUBLISHED-TTL:PT1H
BEGIN:VTIMEZONE
TZID:Europe/Berlin
BEGIN:DAYLIGHT
TZOFFSETFROM:+0100
TZOFFSETTO:+0200
TZNAME:CEST
DTSTART:20220327T010000
END:DAYLIGHT
BEGIN:STANDARD
TZOFFSETFROM:+0200
TZOFFSETTO:+0100
TZNAME:CET
DTSTART:20221030T010000
END:STANDARD
BEGIN:DAYLIGHT
TZOFFSETFROM:+0100
TZOFFSETTO:+0200
TZNAME:CEST
DTSTART:20230326T010000
END:DAYLIGHT
BEGIN:STANDARD
TZOFFSETFROM:+0200
TZOFFSETTO:+0100
TZNAME:CET
DTSTART:20231029T010000
END:STANDARD
BEGIN:DAYLIGHT
TZOFFSETFROM:+0100
TZOFFSETTO:+0200
TZNAME:CEST
DTSTART:20240331T010000
END:DAYLIGHT
BEGIN:STANDARD
TZOFFSETFROM:+0200
TZOFFSETTO:+0100
TZNAME:CET
DTSTART:20241027T010000
END:STANDARD
END:VTIMEZONE
BEGIN:VEVENT
DTSTART;TZID=Europe/Berlin:20231206T180000
DTEND;TZID=Europe/Berlin:20231206T210000
DTSTAMP:20260420T162155
CREATED:20231023T163750Z
LAST-MODIFIED:20231127T095429Z
UID:16612-1701885600-1701896400@der-club.de
SUMMARY:Nikolausrudern mit Weihnachtsmütze und guter Laune
DESCRIPTION:Auch in diesem Jahr wird am 6. Dezember nicht nur gerudert\, sondern auch gesungen: Alle Club-Mitglieder sind herzlich zum Nikolausrudern eingeladen. \nWir treffen uns um 18 Uhr am Steg\, legen um 18.36 Uhr ab und rudern auf die Binnenalster. Bitte bringt eine Thermoskanne für den Glühwein und eine – gerne blinkende – Weihnachtsmütze mit\, damit wir in guter Stimmung auf der Binnenalster anstoßen und Weihnachtslieder zum Besten geben können. Nach dem Rudern warten in der Bootshalle Getränke sowie eine heiße Linsensuppe mit oder ohne Schnippelwurst und Baguette auf Euch. \nBitte meldet Euch bis Montag\, 27. November\, verbindlich mit einer Mail an geselligkeit@der-club.de an. Unser Nikolausrudern kostet 13 Euro pro Person (Barzahlung direkt vor Beginn der Veranstaltung oder vorab per PayPal). \nWer ab 17.30 Uhr Zeit hat\, ist beim Aufbau der Bierzeltgarnituren sehr gerne gesehen! \n\nFoto: Lars Christiansen
URL:https://der-club.de/event/nikolausrudern-mit-weihnachtsmuetze-und-guter-laune
LOCATION:Der Hamburger und Germania Ruder Club\, Alsterufer 21\, Hamburg\, Hamburg\, 20354\, Deutschland
CATEGORIES:Club-Leben
ATTACH;FMTTYPE=image/jpeg:https://der-club.de/wp-content/uploads/2019/12/20191206_5483-Nikolaussechser-2K.jpg
END:VEVENT
BEGIN:VEVENT
DTSTART;TZID=Europe/Berlin:20231226T110000
DTEND;TZID=Europe/Berlin:20231226T130000
DTSTAMP:20260420T162155
CREATED:20231201T154924Z
LAST-MODIFIED:20231203T154108Z
UID:16772-1703588400-1703595600@der-club.de
SUMMARY:Weihnachtssherry
DESCRIPTION:Wir freuen uns\, Euch wieder am zweiten Weihnachtstag ab 11 Uhr zum traditionellen Weihnachtssherry in der Club-Bar begrüßen zu dürfen. \nUnsere Archivare werden eine kleine Ausstellung aus dem Club-Archiv aufbauen – stöbert in der Club-Historie\, plaudert gemütlich bei einem Sherry und/oder einem Bierchen und lasst das Weihnachtsfest im Kreise der Club-Familie ausklingen. \nKleidung: gerne Club-Sakko oder Weihnachtspullover \nAnmeldungen bitte bis 19. Dezember an geselligkeit@der-club.de
URL:https://der-club.de/event/weihnachtssherry
LOCATION:Der Hamburger und Germania Ruder Club\, Alsterufer 21\, Hamburg\, Hamburg\, 20354\, Deutschland
CATEGORIES:Club-Leben
ATTACH;FMTTYPE=image/png:https://der-club.de/wp-content/uploads/2023/12/Sherry.png
END:VEVENT
BEGIN:VEVENT
DTSTART;TZID=Europe/Berlin:20231231T100000
DTEND;TZID=Europe/Berlin:20231231T130000
DTSTAMP:20260420T162155
CREATED:20231112T130000Z
LAST-MODIFIED:20231112T130230Z
UID:16646-1704016800-1704027600@der-club.de
SUMMARY:Silvester-Rudern 2023
DESCRIPTION:Da Weihnachten und kurz darauf Silvester immer völlig überraschend kommen\, erlauben wir uns schon jetzt auf das traditionelle Silvesterrudern hinzuweisen und einzuladen! \nDas Prozedere wird sich zu den Vorjahren nicht ändern: Wir treffen uns um 10 Uhr umgezogen am Steg und werden dort die Bootseinteilung vornehmen. Geplant ist eine Runde von nicht mehr als 1\,5 Stunden. Wohin es geht\, entscheidet jedes Boot individuell. \nNach der Rückkehr gibt es am Steg oder in den Bootshallen Glühwein (mit und ohne) sowie Würstchen und Berliner. Grillgut für Vegetarier besorgen wir auch. \nEuren Kostenbeitrag halten wir konstant bei 10 Euro \nBitte meldet Euch (mit der Angabe\, ob Ihr Vegetarier seid) bis zum 26. Dezember per Mail bei Karsten Weber unter ausgaben@der-club.de an und überweist im Vorwege 10 Euro. Die Bankverbindung findet Ihr in der Rundmail zum Silvester-Rudern oder auf Nachfrage per Mail. \nWir freuen uns auf rege Beteiligung! \n\nAbb.: Feuerwerk (Gerd Altmann / Pixabay)
URL:https://der-club.de/event/silvester-rudern-2023
LOCATION:Der Hamburger und Germania Ruder Club\, Alsterufer 21\, Hamburg\, Hamburg\, 20354\, Deutschland
CATEGORIES:Club-Leben,Sportveranstaltung im CLUB
ATTACH;FMTTYPE=image/jpeg:https://der-club.de/wp-content/uploads/2023/11/Feuerwerk_Gerd-Altmann_Pixabay.jpg
END:VEVENT
END:VCALENDAR