BEGIN:VCALENDAR
VERSION:2.0
PRODID:-//Der CLUB - ECPv6.15.20//NONSGML v1.0//EN
CALSCALE:GREGORIAN
METHOD:PUBLISH
X-WR-CALNAME:Der CLUB
X-ORIGINAL-URL:https://der-club.de
X-WR-CALDESC:Veranstaltungen für Der CLUB
REFRESH-INTERVAL;VALUE=DURATION:PT1H
X-Robots-Tag:noindex
X-PUBLISHED-TTL:PT1H
BEGIN:VTIMEZONE
TZID:Europe/Berlin
BEGIN:DAYLIGHT
TZOFFSETFROM:+0100
TZOFFSETTO:+0200
TZNAME:CEST
DTSTART:20220327T010000
END:DAYLIGHT
BEGIN:STANDARD
TZOFFSETFROM:+0200
TZOFFSETTO:+0100
TZNAME:CET
DTSTART:20221030T010000
END:STANDARD
BEGIN:DAYLIGHT
TZOFFSETFROM:+0100
TZOFFSETTO:+0200
TZNAME:CEST
DTSTART:20230326T010000
END:DAYLIGHT
BEGIN:STANDARD
TZOFFSETFROM:+0200
TZOFFSETTO:+0100
TZNAME:CET
DTSTART:20231029T010000
END:STANDARD
BEGIN:DAYLIGHT
TZOFFSETFROM:+0100
TZOFFSETTO:+0200
TZNAME:CEST
DTSTART:20240331T010000
END:DAYLIGHT
BEGIN:STANDARD
TZOFFSETFROM:+0200
TZOFFSETTO:+0100
TZNAME:CET
DTSTART:20241027T010000
END:STANDARD
END:VTIMEZONE
BEGIN:VEVENT
DTSTART;TZID=Europe/Berlin:20231226T110000
DTEND;TZID=Europe/Berlin:20231226T130000
DTSTAMP:20260420T162152
CREATED:20231201T154924Z
LAST-MODIFIED:20231203T154108Z
UID:16772-1703588400-1703595600@der-club.de
SUMMARY:Weihnachtssherry
DESCRIPTION:Wir freuen uns\, Euch wieder am zweiten Weihnachtstag ab 11 Uhr zum traditionellen Weihnachtssherry in der Club-Bar begrüßen zu dürfen. \nUnsere Archivare werden eine kleine Ausstellung aus dem Club-Archiv aufbauen – stöbert in der Club-Historie\, plaudert gemütlich bei einem Sherry und/oder einem Bierchen und lasst das Weihnachtsfest im Kreise der Club-Familie ausklingen. \nKleidung: gerne Club-Sakko oder Weihnachtspullover \nAnmeldungen bitte bis 19. Dezember an geselligkeit@der-club.de
URL:https://der-club.de/event/weihnachtssherry
LOCATION:Der Hamburger und Germania Ruder Club\, Alsterufer 21\, Hamburg\, Hamburg\, 20354\, Deutschland
CATEGORIES:Club-Leben
ATTACH;FMTTYPE=image/png:https://der-club.de/wp-content/uploads/2023/12/Sherry.png
END:VEVENT
END:VCALENDAR