BEGIN:VCALENDAR
VERSION:2.0
PRODID:-//Der CLUB - ECPv6.15.20//NONSGML v1.0//EN
CALSCALE:GREGORIAN
METHOD:PUBLISH
X-WR-CALNAME:Der CLUB
X-ORIGINAL-URL:https://der-club.de
X-WR-CALDESC:Veranstaltungen für Der CLUB
REFRESH-INTERVAL;VALUE=DURATION:PT1H
X-Robots-Tag:noindex
X-PUBLISHED-TTL:PT1H
BEGIN:VTIMEZONE
TZID:Europe/Berlin
BEGIN:DAYLIGHT
TZOFFSETFROM:+0100
TZOFFSETTO:+0200
TZNAME:CEST
DTSTART:20220327T010000
END:DAYLIGHT
BEGIN:STANDARD
TZOFFSETFROM:+0200
TZOFFSETTO:+0100
TZNAME:CET
DTSTART:20221030T010000
END:STANDARD
BEGIN:DAYLIGHT
TZOFFSETFROM:+0100
TZOFFSETTO:+0200
TZNAME:CEST
DTSTART:20230326T010000
END:DAYLIGHT
BEGIN:STANDARD
TZOFFSETFROM:+0200
TZOFFSETTO:+0100
TZNAME:CET
DTSTART:20231029T010000
END:STANDARD
BEGIN:DAYLIGHT
TZOFFSETFROM:+0100
TZOFFSETTO:+0200
TZNAME:CEST
DTSTART:20240331T010000
END:DAYLIGHT
BEGIN:STANDARD
TZOFFSETFROM:+0200
TZOFFSETTO:+0100
TZNAME:CET
DTSTART:20241027T010000
END:STANDARD
END:VTIMEZONE
BEGIN:VEVENT
DTSTART;TZID=Europe/Berlin:20231123T190000
DTEND;TZID=Europe/Berlin:20231123T220000
DTSTAMP:20260422T203031
CREATED:20221202T142010Z
LAST-MODIFIED:20231121T081336Z
UID:15186-1700766000-1700776800@der-club.de
SUMMARY:Jahreshauptversammlung 2023
DESCRIPTION:Der Vorstand beruft die \nJahreshauptversammlung\nam Donnerstag\, 23. Oktober 2023\, 19:00 Uhr\n\nim Bootshaus des Der Hamburger und Germania Ruder Club\, Alsterufer 21\, 20354 Hamburg\, ein. \n  \nDie Tagesordnung ist in der Galeere\, Heft 4 im Oktober 2023\, erschienen. \n\nFoto: Lars Christiansen
URL:https://der-club.de/event/jahreshauptversammlung-2023
LOCATION:Der Hamburger und Germania Ruder Club\, Alsterufer 21\, Hamburg\, Hamburg\, 20354\, Deutschland
CATEGORIES:Jahreshauptversammlung
ATTACH;FMTTYPE=image/jpeg:https://der-club.de/wp-content/uploads/2022/11/20221117_29804-Publikum-Abstimmung-scaled.jpg
END:VEVENT
END:VCALENDAR